BEGIN:VCALENDAR
VERSION:2.0
PRODID:-//dhpu.dk - ECPv6.15.20//NONSGML v1.0//EN
CALSCALE:GREGORIAN
METHOD:PUBLISH
X-ORIGINAL-URL:https://dhpu.dk
X-WR-CALDESC:Begivenheder for dhpu.dk
REFRESH-INTERVAL;VALUE=DURATION:PT1H
X-Robots-Tag:noindex
X-PUBLISHED-TTL:PT1H
BEGIN:VTIMEZONE
TZID:Europe/Copenhagen
BEGIN:DAYLIGHT
TZOFFSETFROM:+0100
TZOFFSETTO:+0200
TZNAME:CEST
DTSTART:20250330T010000
END:DAYLIGHT
BEGIN:STANDARD
TZOFFSETFROM:+0200
TZOFFSETTO:+0100
TZNAME:CET
DTSTART:20251026T010000
END:STANDARD
BEGIN:DAYLIGHT
TZOFFSETFROM:+0100
TZOFFSETTO:+0200
TZNAME:CEST
DTSTART:20260329T010000
END:DAYLIGHT
BEGIN:STANDARD
TZOFFSETFROM:+0200
TZOFFSETTO:+0100
TZNAME:CET
DTSTART:20261025T010000
END:STANDARD
BEGIN:DAYLIGHT
TZOFFSETFROM:+0100
TZOFFSETTO:+0200
TZNAME:CEST
DTSTART:20270328T010000
END:DAYLIGHT
BEGIN:STANDARD
TZOFFSETFROM:+0200
TZOFFSETTO:+0100
TZNAME:CET
DTSTART:20271031T010000
END:STANDARD
END:VTIMEZONE
BEGIN:VEVENT
DTSTART;TZID=Europe/Copenhagen:20260622T080000
DTEND;TZID=Europe/Copenhagen:20260628T170000
DTSTAMP:20260422T201923
CREATED:20251014T073020Z
LAST-MODIFIED:20260217T093225Z
UID:19141-1782115200-1782666000@dhpu.dk
SUMMARY:DM Ugen på Fasterholt
DESCRIPTION:Her gentager vi succesen\, og afholder igen DM Uge for både HG og PG\, med konkurrence i XC fladland\, skrænt og præcisionslanding
URL:https://dhpu.dk/event/dm-ugen-2/
CATEGORIES:Klubaktiviteter & konkurrencer,Unionsaktiviteter
END:VEVENT
END:VCALENDAR